BEGIN:VCALENDAR
VERSION:2.0
PRODID:-//AudioTheme 2.3.8
BEGIN:VEVENT
UID:urn:uuid:a70684e0-d068-4291-a612-7daaa0fb43fc
URL:https://mitchmcvicker.com/concerts/gig-3434/
DTSTART;VALUE=DATE:20000623
SUMMARY:His Oasis Music Festival
LOCATION:His Oasis Music Festival\, Plainfield\, WI
END:VEVENT
END:VCALENDAR
