BEGIN:VCALENDAR
VERSION:2.0
PRODID:-//AudioTheme 2.3.8
BEGIN:VEVENT
UID:urn:uuid:5afb1e9e-35fa-4da3-87cf-f67e0420e5ed
URL:https://mitchmcvicker.com/concerts/gig-3432/
DTSTART;VALUE=DATE:20000615
SUMMARY:CYOKAMO Church Camp
LOCATION:CYOKAMO Church Camp\, Joplin\, MO
END:VEVENT
END:VCALENDAR
