BEGIN:VCALENDAR
VERSION:2.0
PRODID:-//AudioTheme 2.3.8
BEGIN:VEVENT
UID:urn:uuid:52d40f45-b6d2-4599-a72d-4c19359d51e0
URL:https://mitchmcvicker.com/concerts/gig-3430/
DTSTART;VALUE=DATE:20000610
SUMMARY:Tabernacle of Praise Church
LOCATION:Tabernacle of Praise Church\, Eau Claire\, WI
END:VEVENT
END:VCALENDAR
