BEGIN:VCALENDAR
VERSION:2.0
PRODID:-//AudioTheme 2.3.8
BEGIN:VEVENT
UID:urn:uuid:32171cd7-9657-4b5b-970b-baee1395d755
URL:https://mitchmcvicker.com/concerts/gig-3428/
DTSTART;VALUE=DATE:20000609
SUMMARY:Eau Claire County Fairgrounds
LOCATION:Eau Claire County Fairgrounds\, Eau Claire\, WI
END:VEVENT
END:VCALENDAR
