BEGIN:VCALENDAR
VERSION:2.0
PRODID:-//AudioTheme 2.3.8
BEGIN:VEVENT
UID:urn:uuid:bc6d873d-2bee-4b52-b23d-a95f068899d7
URL:https://mitchmcvicker.com/concerts/gig-3423/
DTSTART;VALUE=DATE:20000520
SUMMARY:First Baptist Church of Herculaneum/Pevely
LOCATION:First Baptist Church of Herculaneum/Pevely\, Pevely\, MO
END:VEVENT
END:VCALENDAR
