BEGIN:VCALENDAR
VERSION:2.0
PRODID:-//AudioTheme 2.3.8
BEGIN:VEVENT
UID:urn:uuid:7339b13c-4083-41f4-977e-640c45e49490
URL:https://mitchmcvicker.com/concerts/gig-3421/
DTSTART;VALUE=DATE:20000519
SUMMARY:Chesterfield Presbyterian Church-Third Friday Youth Event
LOCATION:Chesterfield Presbyterian Church-Third Friday Youth Event\, Chesterfield\, MO
END:VEVENT
END:VCALENDAR
