BEGIN:VCALENDAR
VERSION:2.0
PRODID:-//AudioTheme 2.3.8
BEGIN:VEVENT
UID:urn:uuid:7951594a-9f5e-4749-9c12-74612c45bcd8
URL:https://mitchmcvicker.com/concerts/gig-3420/
DTSTART;VALUE=DATE:20000518
SUMMARY:The Gathering Place
LOCATION:The Gathering Place\, St.Louis\, MO
END:VEVENT
END:VCALENDAR
