BEGIN:VCALENDAR
VERSION:2.0
PRODID:-//AudioTheme 2.3.8
BEGIN:VEVENT
UID:urn:uuid:df984e73-15e6-4d35-9efb-f04ecb9f6382
URL:https://mitchmcvicker.com/concerts/gig-3418/
DTSTART;VALUE=DATE:20000506
SUMMARY:Jammin' Java
LOCATION:Jammin' Java\, Vienna\, VA
END:VEVENT
END:VCALENDAR
