BEGIN:VCALENDAR
VERSION:2.0
PRODID:-//AudioTheme 2.3.8
BEGIN:VEVENT
UID:urn:uuid:c92446dd-90ea-4e00-9b1f-31daf3b208e6
URL:https://mitchmcvicker.com/concerts/gig-3416/
DTSTART;VALUE=DATE:20000430
SUMMARY:First Baptist Church
LOCATION:First Baptist Church\, Augusta\, KS
END:VEVENT
END:VCALENDAR
