BEGIN:VCALENDAR
VERSION:2.0
PRODID:-//AudioTheme 2.3.8
BEGIN:VEVENT
UID:urn:uuid:23b78d9c-c29e-446a-b695-19dde8bc2419
URL:https://mitchmcvicker.com/concerts/gig-3415/
DTSTART;VALUE=DATE:20000429
SUMMARY:Maplewood Church
LOCATION:Maplewood Church\, Sedalia\, MO
END:VEVENT
END:VCALENDAR
