BEGIN:VCALENDAR
VERSION:2.0
PRODID:-//AudioTheme 2.3.8
BEGIN:VEVENT
UID:urn:uuid:bb1c27e6-bc4d-4248-b76e-e136be1f97d5
URL:https://mitchmcvicker.com/concerts/gig-3413/
DTSTART;VALUE=DATE:20000423
SUMMARY:Easter New Work Fellowship Outdoor Morning Service
LOCATION:Easter New Work Fellowship Outdoor Morning Service\, Hopkinsville\, KY
END:VEVENT
END:VCALENDAR
