BEGIN:VCALENDAR
VERSION:2.0
PRODID:-//AudioTheme 2.3.8
BEGIN:VEVENT
UID:urn:uuid:7faa4b29-d57c-4563-a82b-66440e980f4d
URL:https://mitchmcvicker.com/concerts/gig-3411/
DTSTART;VALUE=DATE:20000415
SUMMARY:Indiana Wesleyan University
LOCATION:Indiana Wesleyan University\, Marion\, IN
END:VEVENT
END:VCALENDAR
