BEGIN:VCALENDAR
VERSION:2.0
PRODID:-//AudioTheme 2.3.8
BEGIN:VEVENT
UID:urn:uuid:f90eadbc-5953-465e-8c15-bb3110f3f446
URL:https://mitchmcvicker.com/concerts/gig-3409/
DTSTART;VALUE=DATE:20000414
SUMMARY:Winona Lake Free Methodist Church
LOCATION:Winona Lake Free Methodist Church\, Winona Lake\, IN
END:VEVENT
END:VCALENDAR
