BEGIN:VCALENDAR
VERSION:2.0
PRODID:-//AudioTheme 2.3.8
BEGIN:VEVENT
UID:urn:uuid:37e0b7ea-d4c4-48a6-b2e1-29e5cb5a9362
URL:https://mitchmcvicker.com/concerts/gig-3405/
DTSTART;VALUE=DATE:20000406
SUMMARY:Community Bible Church
LOCATION:Community Bible Church\, San Antonio\, TX
END:VEVENT
END:VCALENDAR
