BEGIN:VCALENDAR
VERSION:2.0
PRODID:-//AudioTheme 2.3.8
BEGIN:VEVENT
UID:urn:uuid:814a107d-dbdd-4b0d-9ee0-723940b0af4d
URL:https://mitchmcvicker.com/concerts/gig-3403/
DTSTART;VALUE=DATE:20000401
SUMMARY:Mitchell High School Auditorium-Night to Feed 50,000 People
LOCATION:Mitchell High School Auditorium-Night to Feed 50\,000 People\, Mitchell\, IN
END:VEVENT
END:VCALENDAR
