BEGIN:VCALENDAR
VERSION:2.0
PRODID:-//AudioTheme 2.3.8
BEGIN:VEVENT
UID:urn:uuid:77397de3-7fca-48f9-9564-05d165a43474
URL:https://mitchmcvicker.com/concerts/gig-3400/
DTSTART;VALUE=DATE:20000329
SUMMARY:The Orchard Church
LOCATION:The Orchard Church\, St. Cloud\, MN
END:VEVENT
END:VCALENDAR
