BEGIN:VCALENDAR
VERSION:2.0
PRODID:-//AudioTheme 2.3.8
BEGIN:VEVENT
UID:urn:uuid:fb4669b6-1a4f-4c42-9c82-afd0fcad599c
URL:https://mitchmcvicker.com/concerts/gig-3398/
DTSTART;VALUE=DATE:20000328
SUMMARY:Westwood Church
LOCATION:Westwood Church\, St. Cloud\, MN
END:VEVENT
END:VCALENDAR
