BEGIN:VCALENDAR
VERSION:2.0
PRODID:-//AudioTheme 2.3.8
BEGIN:VEVENT
UID:urn:uuid:33abb13d-907c-45d0-9bc5-6661a4cd2466
URL:https://mitchmcvicker.com/concerts/gig-3396/
DTSTART;VALUE=DATE:20000326
SUMMARY:St John Church
LOCATION:St John Church\, Woodbury\, MN
END:VEVENT
END:VCALENDAR
