BEGIN:VCALENDAR
VERSION:2.0
PRODID:-//AudioTheme 2.3.8
BEGIN:VEVENT
UID:urn:uuid:5f08e3d1-46f3-47c0-be53-c397c26a3b14
URL:https://mitchmcvicker.com/concerts/gig-3394/
DTSTART;VALUE=DATE:20000325
SUMMARY:Lakewood Temple Church
LOCATION:Lakewood Temple Church\, Maplewood\, MN
END:VEVENT
END:VCALENDAR
