BEGIN:VCALENDAR
VERSION:2.0
PRODID:-//AudioTheme 2.3.8
BEGIN:VEVENT
UID:urn:uuid:48993cf8-25fe-4c9f-a7d7-6d83e71aea97
URL:https://mitchmcvicker.com/concerts/gig-3392/
DTSTART;VALUE=DATE:20000325
SUMMARY:Northwestern Bookstore Appearance
LOCATION:Northwestern Bookstore Appearance\, Woodbury\, MN
END:VEVENT
END:VCALENDAR
