BEGIN:VCALENDAR
VERSION:2.0
PRODID:-//AudioTheme 2.3.8
BEGIN:VEVENT
UID:urn:uuid:aa8eb118-e3ac-4ee8-a69d-5530d2511789
URL:https://mitchmcvicker.com/concerts/gig-3386/
DTSTART;VALUE=DATE:20000320
SUMMARY:Dreamcoat Cafe
LOCATION:Dreamcoat Cafe\, Stillwater\, MN
END:VEVENT
END:VCALENDAR
