BEGIN:VCALENDAR
VERSION:2.0
PRODID:-//AudioTheme 2.3.8
BEGIN:VEVENT
UID:urn:uuid:dab1d960-0339-45bc-a6f0-c00dc9ec354d
URL:https://mitchmcvicker.com/concerts/gig-3384/
DTSTART;VALUE=DATE:20000320
SUMMARY:KTIS 98.5 FM-900 AM- on air interview/songs
LOCATION:KTIS 98.5 FM-900 AM- on air interview/songs\, St Paul\, MN
END:VEVENT
END:VCALENDAR
