BEGIN:VCALENDAR
VERSION:2.0
PRODID:-//AudioTheme 2.3.8
BEGIN:VEVENT
UID:urn:uuid:4e3790c1-6430-4be5-b385-13c7dbdb11f0
URL:https://mitchmcvicker.com/concerts/gig-3382/
DTSTART;VALUE=DATE:20000319
SUMMARY:St. Michael Lutheran Church- Youth Coffee Shop Event
LOCATION:St. Michael Lutheran Church- Youth Coffee Shop Event\, Bloomington\, MN
END:VEVENT
END:VCALENDAR
