BEGIN:VCALENDAR
VERSION:2.0
PRODID:-//AudioTheme 2.3.8
BEGIN:VEVENT
UID:urn:uuid:51fd4ce2-c0df-42df-9098-10475439a1f3
URL:https://mitchmcvicker.com/concerts/gig-3380/
DTSTART;VALUE=DATE:20000319
SUMMARY:Servant of Christ Lutheran Church
LOCATION:Servant of Christ Lutheran Church\, Champlin\, MN
END:VEVENT
END:VCALENDAR
