BEGIN:VCALENDAR
VERSION:2.0
PRODID:-//AudioTheme 2.3.8
BEGIN:VEVENT
UID:urn:uuid:0fe63a32-afa7-4981-b305-3ad20c8f38f7
URL:https://mitchmcvicker.com/concerts/gig-3376/
DTSTART;VALUE=DATE:20000315
SUMMARY:Lake Brownwood Christian Retreat
LOCATION:Lake Brownwood Christian Retreat\, Brownwood\, TX
END:VEVENT
END:VCALENDAR
