BEGIN:VCALENDAR
VERSION:2.0
PRODID:-//AudioTheme 2.3.8
BEGIN:VEVENT
UID:urn:uuid:e68a580d-7396-4d86-bdef-f9cead7bf79d
URL:https://mitchmcvicker.com/concerts/gig-3374/
DTSTART;VALUE=DATE:20000311
SUMMARY:Dearborn Free Methodist Church
LOCATION:Dearborn Free Methodist Church\, Dearborn\, MI
END:VEVENT
END:VCALENDAR
