BEGIN:VCALENDAR
VERSION:2.0
PRODID:-//AudioTheme 2.3.8
BEGIN:VEVENT
UID:urn:uuid:d9041299-acaf-44d9-ab3a-851747a8c575
URL:https://mitchmcvicker.com/concerts/gig-3372/
DTSTART;VALUE=DATE:20000310
SUMMARY:St. Andrews Lutheran Church
LOCATION:St. Andrews Lutheran Church\, West Chicago\, IL
END:VEVENT
END:VCALENDAR
