BEGIN:VCALENDAR
VERSION:2.0
PRODID:-//AudioTheme 2.3.8
BEGIN:VEVENT
UID:urn:uuid:46142f13-1e4a-45fc-aadd-cfa15c84489b
URL:https://mitchmcvicker.com/concerts/gig-3370/
DTSTART;VALUE=DATE:20000304
SUMMARY:Ocean View United Methodist Church
LOCATION:Ocean View United Methodist Church\, Oak Island\, NC
END:VEVENT
END:VCALENDAR
