BEGIN:VCALENDAR
VERSION:2.0
PRODID:-//AudioTheme 2.3.8
BEGIN:VEVENT
UID:urn:uuid:51a6dcaf-7b66-485e-ba66-dbf0a71fd499
URL:https://mitchmcvicker.com/concerts/gig-3368/
DTSTART;VALUE=DATE:20000303
SUMMARY:The Ark Christian Club
LOCATION:The Ark Christian Club\, Wilmington\, NC
END:VEVENT
END:VCALENDAR
