BEGIN:VCALENDAR
VERSION:2.0
PRODID:-//AudioTheme 2.3.8
BEGIN:VEVENT
UID:urn:uuid:81e5a7c3-ea39-4124-869f-fa1663e92b0c
URL:https://mitchmcvicker.com/concerts/gig-3366/
DTSTART;VALUE=DATE:20000302
SUMMARY:New Prospect Baptist Church
LOCATION:New Prospect Baptist Church\, Anderson\, SC
END:VEVENT
END:VCALENDAR
