BEGIN:VCALENDAR
VERSION:2.0
PRODID:-//AudioTheme 2.3.8
BEGIN:VEVENT
UID:urn:uuid:dd3005f8-1926-426c-b96e-27478f45909d
URL:https://mitchmcvicker.com/concerts/gig-3364/
DTSTART;VALUE=DATE:20000225
SUMMARY:Reckless Abandon Retreat sponsored by The Legacy Park Cities Baptist Church
LOCATION:Reckless Abandon Retreat sponsored by The Legacy Park Cities Baptist Church\, Dallas\, TX
END:VEVENT
END:VCALENDAR
