BEGIN:VCALENDAR
VERSION:2.0
PRODID:-//AudioTheme 2.3.8
BEGIN:VEVENT
UID:urn:uuid:5115f1b4-4257-42d7-958e-cdfd1ae170d5
URL:https://mitchmcvicker.com/concerts/gig-3362/
DTSTART;VALUE=DATE:20000205
SUMMARY:Jammin' Java
LOCATION:Jammin' Java\, Franklin\, TN
END:VEVENT
END:VCALENDAR
