BEGIN:VCALENDAR
VERSION:2.0
PRODID:-//AudioTheme 2.3.8
BEGIN:VEVENT
UID:urn:uuid:636c2b50-20f7-4187-b7c0-7f2777750d71
URL:https://mitchmcvicker.com/concerts/gig-3360/
DTSTART;VALUE=DATE:20000116
SUMMARY:Lamb's Theater off Times Square
LOCATION:Lamb's Theater off Times Square\, New York City\, NY
END:VEVENT
END:VCALENDAR
