BEGIN:VCALENDAR
VERSION:2.0
PRODID:-//AudioTheme 2.3.8
BEGIN:VEVENT
UID:urn:uuid:a19f69ba-aa84-4b8c-ada3-46d4190d053f
URL:https://mitchmcvicker.com/concerts/gig-3358/
DTSTART;VALUE=DATE:20011209
SUMMARY:United Methodist Church
LOCATION:United Methodist Church\, Corydon\, IA
END:VEVENT
END:VCALENDAR
