BEGIN:VCALENDAR
VERSION:2.0
PRODID:-//AudioTheme 2.3.8
BEGIN:VEVENT
UID:urn:uuid:960e16b0-bfd1-49ab-8a87-283e6f5cab03
URL:https://mitchmcvicker.com/concerts/gig-3356/
DTSTART;VALUE=DATE:20011208
SUMMARY:Warrenton Christian Church
LOCATION:Warrenton Christian Church\, Warrenton\, MO
END:VEVENT
END:VCALENDAR
