BEGIN:VCALENDAR
VERSION:2.0
PRODID:-//AudioTheme 2.3.8
BEGIN:VEVENT
UID:urn:uuid:54c3bd7d-ab20-436b-8d1a-e02d61e64c9b
URL:https://mitchmcvicker.com/concerts/gig-3354/
DTSTART;VALUE=DATE:20011207
SUMMARY:Delavan Baptist Church
LOCATION:Delavan Baptist Church\, Delavan\, IL
END:VEVENT
END:VCALENDAR
