BEGIN:VCALENDAR
VERSION:2.0
PRODID:-//AudioTheme 2.3.8
BEGIN:VEVENT
UID:urn:uuid:29a0594c-7768-481c-9dbe-a2012eb4473b
URL:https://mitchmcvicker.com/concerts/gig-3352/
DTSTART;VALUE=DATE:20011130
SUMMARY:100 Huntley Street TV Show-taping
LOCATION:100 Huntley Street TV Show-taping\, Burlington\, \, Ontario\, Canada
END:VEVENT
END:VCALENDAR
