BEGIN:VCALENDAR
VERSION:2.0
PRODID:-//AudioTheme 2.3.8
BEGIN:VEVENT
UID:urn:uuid:53361d3e-662d-4a4f-ab90-5b61e9666846
URL:https://mitchmcvicker.com/concerts/gig-3350/
DTSTART;VALUE=DATE:20011125
SUMMARY:The Life Center hosted by Bashor Children's Home
LOCATION:The Life Center hosted by Bashor Children's Home\, Goshen\, IN
END:VEVENT
END:VCALENDAR
