BEGIN:VCALENDAR
VERSION:2.0
PRODID:-//AudioTheme 2.3.8
BEGIN:VEVENT
UID:urn:uuid:afb6f06f-374c-4fd5-939d-4c94671fdaee
URL:https://mitchmcvicker.com/concerts/gig-3347/
DTSTART;VALUE=DATE:20011117
SUMMARY:Lighthouse Cafe
LOCATION:Lighthouse Cafe\, Rockford\, IL
END:VEVENT
END:VCALENDAR
