BEGIN:VCALENDAR
VERSION:2.0
PRODID:-//AudioTheme 2.3.8
BEGIN:VEVENT
UID:urn:uuid:1f301d97-c793-4256-b24a-a76b6ee2dc34
URL:https://mitchmcvicker.com/concerts/gig-3346/
DTSTART;VALUE=DATE:20011115
SUMMARY:Spring Arbor University
LOCATION:Spring Arbor University\, Spring Arbor\, MI
END:VEVENT
END:VCALENDAR
