BEGIN:VCALENDAR
VERSION:2.0
PRODID:-//AudioTheme 2.3.8
BEGIN:VEVENT
UID:urn:uuid:0631eddc-bcee-4b47-8eeb-59186c042afd
URL:https://mitchmcvicker.com/concerts/gig-3344/
DTSTART;VALUE=DATE:20011111
SUMMARY:Adams Farm Community Church
LOCATION:Adams Farm Community Church\, Jamestown\, NC
END:VEVENT
END:VCALENDAR
