BEGIN:VCALENDAR
VERSION:2.0
PRODID:-//AudioTheme 2.3.8
BEGIN:VEVENT
UID:urn:uuid:b1010561-37b2-452b-9f36-7a28ec1ec2bb
URL:https://mitchmcvicker.com/concerts/gig-3342/
DTSTART;VALUE=DATE:20011110
SUMMARY:Jammin' Java
LOCATION:Jammin' Java\, Columbia\, SC
END:VEVENT
END:VCALENDAR
