BEGIN:VCALENDAR
VERSION:2.0
PRODID:-//AudioTheme 2.3.8
BEGIN:VEVENT
UID:urn:uuid:5e292e08-b773-48bc-a977-3f09fbfa9313
URL:https://mitchmcvicker.com/concerts/gig-3338/
DTSTART;VALUE=DATE:20011104
SUMMARY:Keepers of the Promise Youth Rally, Dennis Walker Civic Center
LOCATION:Keepers of the Promise Youth Rally\, Dennis Walker Civic Center\, Sanford\, NC
END:VEVENT
END:VCALENDAR
