BEGIN:VCALENDAR
VERSION:2.0
PRODID:-//AudioTheme 2.3.8
BEGIN:VEVENT
UID:urn:uuid:751a7728-99e8-4246-90e3-e339def649c0
URL:https://mitchmcvicker.com/concerts/gig-3336/
DTSTART;VALUE=DATE:20011102
SUMMARY:Third Reformed Church
LOCATION:Third Reformed Church\, Pella\, IA
END:VEVENT
END:VCALENDAR
