BEGIN:VCALENDAR
VERSION:2.0
PRODID:-//AudioTheme 2.3.8
BEGIN:VEVENT
UID:urn:uuid:0765a9bd-b2c3-46c8-bcb6-c75b06e9e6e8
URL:https://mitchmcvicker.com/concerts/gig-3333/
DTSTART;VALUE=DATE:20011028
SUMMARY:Crystal Evangelical Free Church-Extended Campus
LOCATION:Crystal Evangelical Free Church-Extended Campus\, New Hope\, MN
END:VEVENT
END:VCALENDAR
