BEGIN:VCALENDAR
VERSION:2.0
PRODID:-//AudioTheme 2.3.8
BEGIN:VEVENT
UID:urn:uuid:e0e27acc-7fc5-42a6-9933-24b4f09648f2
URL:https://mitchmcvicker.com/concerts/gig-3332/
DTSTART;VALUE=DATE:20011025
SUMMARY:Paynesville High School "New" Auditorium
LOCATION:Paynesville High School "New" Auditorium\, Paynesville\, MN
END:VEVENT
END:VCALENDAR
