BEGIN:VCALENDAR
VERSION:2.0
PRODID:-//AudioTheme 2.3.8
BEGIN:VEVENT
UID:urn:uuid:a46e0988-b8cf-4f34-ab4d-4173fc5cc0ba
URL:https://mitchmcvicker.com/concerts/gig-3326/
DTSTART;VALUE=DATE:20011020
SUMMARY:Bethany College, Presser Hall Auditorium
LOCATION:Bethany College\, Presser Hall Auditorium\, Lindsborg\, KS
END:VEVENT
END:VCALENDAR
