BEGIN:VCALENDAR
VERSION:2.0
PRODID:-//AudioTheme 2.3.8
BEGIN:VEVENT
UID:urn:uuid:6d467bcd-12b3-4e30-9a96-3500e2039027
URL:https://mitchmcvicker.com/concerts/gig-3324/
DTSTART;VALUE=DATE:20011014
SUMMARY:Hibben United Methodist Church
LOCATION:Hibben United Methodist Church\, Mt. Pleasant\, SC
END:VEVENT
END:VCALENDAR
