BEGIN:VCALENDAR
VERSION:2.0
PRODID:-//AudioTheme 2.3.8
BEGIN:VEVENT
UID:urn:uuid:f5bdb694-b474-4db1-b6d8-7031435d9d72
URL:https://mitchmcvicker.com/concerts/gig-3323/
DTSTART;VALUE=DATE:20011007
SUMMARY:Grace Reformed Church
LOCATION:Grace Reformed Church\, 520 Maxwell St\, Waterloo\, IA\, USA
END:VEVENT
END:VCALENDAR
