BEGIN:VCALENDAR
VERSION:2.0
PRODID:-//AudioTheme 2.3.8
BEGIN:VEVENT
UID:urn:uuid:9189278e-283f-4d34-8e4a-6a1c7e56a241
URL:https://mitchmcvicker.com/concerts/gig-3321/
DTSTART;VALUE=DATE:20011007
SUMMARY:Faith Assembly of God
LOCATION:Faith Assembly of God\, Elk Run Heights\, IA
END:VEVENT
END:VCALENDAR
